BEGIN:VCALENDAR
VERSION:2.0
PRODID:-//KingBEAR - ECPv6.15.20//NONSGML v1.0//EN
CALSCALE:GREGORIAN
METHOD:PUBLISH
X-ORIGINAL-URL:https://kingbear.de
X-WR-CALDESC:Veranstaltungen für KingBEAR
REFRESH-INTERVAL;VALUE=DURATION:PT1H
X-Robots-Tag:noindex
X-PUBLISHED-TTL:PT1H
BEGIN:VTIMEZONE
TZID:Europe/Berlin
BEGIN:DAYLIGHT
TZOFFSETFROM:+0100
TZOFFSETTO:+0200
TZNAME:CEST
DTSTART:20210328T010000
END:DAYLIGHT
BEGIN:STANDARD
TZOFFSETFROM:+0200
TZOFFSETTO:+0100
TZNAME:CET
DTSTART:20211031T010000
END:STANDARD
BEGIN:DAYLIGHT
TZOFFSETFROM:+0100
TZOFFSETTO:+0200
TZNAME:CEST
DTSTART:20220327T010000
END:DAYLIGHT
BEGIN:STANDARD
TZOFFSETFROM:+0200
TZOFFSETTO:+0100
TZNAME:CET
DTSTART:20221030T010000
END:STANDARD
BEGIN:DAYLIGHT
TZOFFSETFROM:+0100
TZOFFSETTO:+0200
TZNAME:CEST
DTSTART:20230326T010000
END:DAYLIGHT
BEGIN:STANDARD
TZOFFSETFROM:+0200
TZOFFSETTO:+0100
TZNAME:CET
DTSTART:20231029T010000
END:STANDARD
BEGIN:DAYLIGHT
TZOFFSETFROM:+0100
TZOFFSETTO:+0200
TZNAME:CEST
DTSTART:20240331T010000
END:DAYLIGHT
BEGIN:STANDARD
TZOFFSETFROM:+0200
TZOFFSETTO:+0100
TZNAME:CET
DTSTART:20241027T010000
END:STANDARD
BEGIN:DAYLIGHT
TZOFFSETFROM:+0100
TZOFFSETTO:+0200
TZNAME:CEST
DTSTART:20250330T010000
END:DAYLIGHT
BEGIN:STANDARD
TZOFFSETFROM:+0200
TZOFFSETTO:+0100
TZNAME:CET
DTSTART:20251026T010000
END:STANDARD
BEGIN:DAYLIGHT
TZOFFSETFROM:+0100
TZOFFSETTO:+0200
TZNAME:CEST
DTSTART:20260329T010000
END:DAYLIGHT
BEGIN:STANDARD
TZOFFSETFROM:+0200
TZOFFSETTO:+0100
TZNAME:CET
DTSTART:20261025T010000
END:STANDARD
END:VTIMEZONE
BEGIN:VEVENT
DTSTART;VALUE=DATE:20251205
DTEND;VALUE=DATE:20251208
DTSTAMP:20260420T172242
CREATED:20251025T055124Z
LAST-MODIFIED:20260331T105307Z
UID:10000455-1764892800-1765151999@kingbear.de
SUMMARY:50. Bendorfer Weihnachtsmarkt
DESCRIPTION:Zum 50. Mal findet auf und um den Kirchplatz der Bendorfer Weihnachtsmarkt statt\, und wir sind wieder dabei! Gönn Dir einen zauberhaften Tag mit Musik\, gutem Essen\, preisgekröntem Glühwein und jeder Menge Kunsthandwerk und Geschenkideen.
URL:https://kingbear.de/event/50-bendorfer-weihnachtsmarkt/
LOCATION:Bendorf am Rhein\, Kirchplatz\, Bendorf\, 56170\, Deutschland
CATEGORIES:Märkte
ATTACH;FMTTYPE=image/jpeg:https://kingbear.de/wp-content/uploads/2024/11/bendorfer-weihnachtsmarkt-scaled.jpg
GEO:50.4222198;7.5767597
X-APPLE-STRUCTURED-LOCATION;VALUE=URI;X-ADDRESS=Bendorf am Rhein Kirchplatz Bendorf 56170 Deutschland;X-APPLE-RADIUS=500;X-TITLE=Kirchplatz:geo:7.5767597,50.4222198
END:VEVENT
BEGIN:VEVENT
DTSTART;VALUE=DATE:20241206
DTEND;VALUE=DATE:20241209
DTSTAMP:20260420T172242
CREATED:20241117T165212Z
LAST-MODIFIED:20260406T090211Z
UID:10000054-1733443200-1733702399@kingbear.de
SUMMARY:Bendorfer Weihnachtsmarkt
DESCRIPTION:Unser Dauerbrenner: Kirchplatz und Gassen der Bendorfer Innenstadt verwandeln sich in ein Paradies aus Weihnachts-Glanz und himmlischen Düften\, untermalt von stimmungsvoller Musik. \nWir sind in diesem Jahr wieder mit unserem gesamten Sortiment vor Ort\, so dass Ihr Euch ganz entspannt quer durchschnuppern könnt. Aufgrund der angeschlagenen Gesundheit wird Christian 1 dieses Jahr nicht dabei sein können und in der Manufaktur die Stellung halten. Dank Familienhilfe werdet Ihr aber bestens betreut.
URL:https://kingbear.de/event/bendorfer-weihnachtsmarkt-2/
LOCATION:Bendorf am Rhein\, Kirchplatz\, Bendorf\, 56170\, Deutschland
CATEGORIES:Märkte
ATTACH;FMTTYPE=image/jpeg:https://kingbear.de/wp-content/uploads/2024/11/bendorfer-weihnachtsmarkt-scaled.jpg
GEO:50.4222198;7.5767597
X-APPLE-STRUCTURED-LOCATION;VALUE=URI;X-ADDRESS=Bendorf am Rhein Kirchplatz Bendorf 56170 Deutschland;X-APPLE-RADIUS=500;X-TITLE=Kirchplatz:geo:7.5767597,50.4222198
END:VEVENT
BEGIN:VEVENT
DTSTART;VALUE=DATE:20241005
DTEND;VALUE=DATE:20241007
DTSTAMP:20260420T172242
CREATED:20240225T092405Z
LAST-MODIFIED:20260331T111525Z
UID:10000040-1728086400-1728259199@kingbear.de
SUMMARY:CRAFT Festival Bendorf
DESCRIPTION:Gutes Bier\, gutes Essen\, gute Musik. Und vor allem: gute Seife! \nBeim Bendorfer Craft Festival geht es auch dieses Jahr wieder um handgemachten Genuss. Auf dem Kirchplatz findest Du allerlei Kulinarisches zu guter Live-Musik\, und alles stammt direkt aus der Region. \nMittendrin sind wir mit unseren Seifen: Du kannst sie zwar nicht essen\, aber sie helfen Dir zuverlässig dabei\, Dich nach durchzechter und durchfeierter Nacht von Kopf bis Fuß zu pflegen. Vor allem aber sind wir gerne in Bendorf für Dich da\, denn hier fühlen wir uns wohl und haben selber immer einen Riesen-Spaß. Und so hast Du die Gelegenheit\, uns gut gelaunt all Deine Fragen zu stellen und Dich – bestens mit Essen und Trinken versorgt – an unserem Stand durch unser gesamtes Sortiment zu schnuppern.
URL:https://kingbear.de/event/craft-festival-bendorf/
LOCATION:Bendorf am Rhein\, Kirchplatz\, Bendorf\, 56170\, Deutschland
CATEGORIES:Märkte
ATTACH;FMTTYPE=image/jpeg:https://kingbear.de/wp-content/uploads/2024/02/CRAFT-FESTIVAL-HEADER.jpg
GEO:50.4222198;7.5767597
X-APPLE-STRUCTURED-LOCATION;VALUE=URI;X-ADDRESS=Bendorf am Rhein Kirchplatz Bendorf 56170 Deutschland;X-APPLE-RADIUS=500;X-TITLE=Kirchplatz:geo:7.5767597,50.4222198
END:VEVENT
BEGIN:VEVENT
DTSTART;VALUE=DATE:20240505
DTEND;VALUE=DATE:20240506
DTSTAMP:20260420T172242
CREATED:20250309T072337Z
LAST-MODIFIED:20260331T105218Z
UID:10000061-1714906800-1714932000@kingbear.de
SUMMARY:Bendorfer Bauern- und Gartenmarkt
DESCRIPTION:Es ist Pflanzzeit: auf dem Bauern- und Gartenmarkt in Bendorf präsentieren unzählige Gärtnereien und Händler Ihre Waren für einen gelungenen Start in einen grünen Sommer. \nUnd weil’s im Garten gern mal schmutzig wird\, findest Du uns – schon fast traditionell – mittendrin. An unserem Stand kannst Du nach Herzenslust all unsere Produkte testen und alle Deine Fragen loswerden.
URL:https://kingbear.de/event/bendorfer-bauern-und-gartenmarkt-3/
LOCATION:Bendorf am Rhein\, Kirchplatz\, Bendorf\, 56170\, Deutschland
CATEGORIES:Märkte
ATTACH;FMTTYPE=image/jpeg:https://kingbear.de/wp-content/uploads/2024/02/gartenmarkt.jpg
GEO:50.4222198;7.5767597
X-APPLE-STRUCTURED-LOCATION;VALUE=URI;X-ADDRESS=Bendorf am Rhein Kirchplatz Bendorf 56170 Deutschland;X-APPLE-RADIUS=500;X-TITLE=Kirchplatz:geo:7.5767597,50.4222198
END:VEVENT
BEGIN:VEVENT
DTSTART;TZID=Europe/Berlin:20240505T110000
DTEND;TZID=Europe/Berlin:20240505T180000
DTSTAMP:20260420T172242
CREATED:20240219T120508Z
LAST-MODIFIED:20260331T105218Z
UID:10000038-1714906800-1714932000@kingbear.de
SUMMARY:Bendorfer Bauern- und Gartenmarkt
DESCRIPTION:Es ist Pflanzzeit: auf dem Bauern- und Gartenmarkt in Bendorf präsentieren unzählige Gärtnereien und Händler Ihre Waren für einen gelungenen Start in einen grünen Sommer. \nUnd weil’s im Garten gern mal schmutzig wird\, findest Du uns – schon fast traditionell – mittendrin. An unserem Stand kannst Du nach Herzenslust all unsere Produkte testen und alle Deine Fragen loswerden.
URL:https://kingbear.de/event/bendorfer-bauern-und-gartenmarkt-2/
LOCATION:Bendorf am Rhein\, Kirchplatz\, Bendorf\, 56170\, Deutschland
CATEGORIES:Märkte
ATTACH;FMTTYPE=image/jpeg:https://kingbear.de/wp-content/uploads/2024/02/gartenmarkt.jpg
GEO:50.4222198;7.5767597
X-APPLE-STRUCTURED-LOCATION;VALUE=URI;X-ADDRESS=Bendorf am Rhein Kirchplatz Bendorf 56170 Deutschland;X-APPLE-RADIUS=500;X-TITLE=Kirchplatz:geo:7.5767597,50.4222198
END:VEVENT
BEGIN:VEVENT
DTSTART;VALUE=DATE:20231208
DTEND;VALUE=DATE:20231211
DTSTAMP:20260420T172242
CREATED:20230815T050322Z
LAST-MODIFIED:20260406T090338Z
UID:10000026-1701993600-1702252799@kingbear.de
SUMMARY:Bendorfer Weihnachtsmarkt
DESCRIPTION:Einer unserer Lieblinge: der Bendorfer Weihnachtsmarkt! Hier stimmt einfach der Mix aus Besinnlichkeit und Feierstimmung\, jedes Jahr ein Highlight für Groß und Klein. Du findest uns wieder direkt auf dem Kirchplatz\, unsere Seifen fühlen sich einfach zwischen Krippenfiguren\, Handgemachtem\, Glühwein und Reibekuchen so richtig wohl! \nWeihnachts-Seifen in Bendorf\nAn unserem Stand findest Du neben unserem Stamm-Sortiment an feinsten Haar- & Duschseifen auch unsere Weihnachts-Specials – ein absoluter Geschenkideen-Geheimtipp für alle nachhaltigen\, sauberen Menschen. Auf dem Weihnachtsmarkt nehmen wir uns gern Zeit für Dich und beraten zu allen Fragen der Körperpflege. Und wenn Du den Glühwein satt bist\, gibt’s dazu gern auch ein Gläschen Secco von unserem Lieblings-Winzer. \nLerne uns und unsere Produkte kennen und tauche ein in weihnachtlich-saubere Stimmung! Wir sind Freitags von 15:00 – 21:00\, Samstags von 12:00 – 21:00 und Sonntags von 11:00 – 18:30 für Dich auf dem Bendorfer Kirchplatz. \nDu hast an diesem Advents-Wochenende schon was anderes vor? Kein Ding: hier findest Du unsere Veranstaltungen.
URL:https://kingbear.de/event/bendorfer-weihnachtsmarkt/
LOCATION:Bendorf am Rhein\, Kirchplatz\, Bendorf\, 56170\, Deutschland
CATEGORIES:Märkte
ATTACH;FMTTYPE=image/jpeg:https://kingbear.de/wp-content/uploads/2023/08/bendorfer_weihnachtsmarkt.jpg
GEO:50.4222198;7.5767597
X-APPLE-STRUCTURED-LOCATION;VALUE=URI;X-ADDRESS=Bendorf am Rhein Kirchplatz Bendorf 56170 Deutschland;X-APPLE-RADIUS=500;X-TITLE=Kirchplatz:geo:7.5767597,50.4222198
END:VEVENT
BEGIN:VEVENT
DTSTART;VALUE=DATE:20230930
DTEND;VALUE=DATE:20231002
DTSTAMP:20260420T172242
CREATED:20230319T074749Z
LAST-MODIFIED:20260406T090400Z
UID:10000022-1696032000-1696204799@kingbear.de
SUMMARY:Bendorfer CRAFT-Festival
DESCRIPTION:Als Freunde des Selbstgemachten kommen wir ja nicht wirklich daran vorbei\, uns auch mit dem “selbstgemachten Getränk” zu befassen. Dass “selbstgemacht” alles andere als “dilettantisch” bedeutet\, kannst Du auf dem Bendorfer CRAFT-Festival live erleben: Craft-Bier\, Craft-Food und Livemusik sorgen für ein außergewöhnliches Event für alle Sinne! \nWir machen ein Experiment\, denn wir sind mit dabei. Uns kann man nicht essen oder trinken\, und singen werden wir auch nicht. Aber wir “craften” unsere Seifen mit Herz und Seele. Okay\, und wir feiern gern… Besuche uns in einer eher seifen-ungewöhnlichen Atmosphäre\, teste unsere Produkte und lerne uns und unsere Philosophie persönlich kennen! \nDu findest uns Samstags von 12-22 Uhr und Sonntags von 11-20 Uhr auf dem Kirchplatz.
URL:https://kingbear.de/event/bendorfer-craft-festival/
LOCATION:Bendorf am Rhein\, Kirchplatz\, Bendorf\, 56170\, Deutschland
CATEGORIES:Märkte
ATTACH;FMTTYPE=image/jpeg:https://kingbear.de/wp-content/uploads/2023/03/p1010079.jpg
GEO:50.4222198;7.5767597
X-APPLE-STRUCTURED-LOCATION;VALUE=URI;X-ADDRESS=Bendorf am Rhein Kirchplatz Bendorf 56170 Deutschland;X-APPLE-RADIUS=500;X-TITLE=Kirchplatz:geo:7.5767597,50.4222198
END:VEVENT
BEGIN:VEVENT
DTSTART;TZID=Europe/Berlin:20230507T110000
DTEND;TZID=Europe/Berlin:20230507T180000
DTSTAMP:20260420T172242
CREATED:20230211T202058Z
LAST-MODIFIED:20260331T105219Z
UID:10000016-1683457200-1683482400@kingbear.de
SUMMARY:Bendorfer Bauern- und Gartenmarkt
DESCRIPTION:Endlich Frühlung! Auf dem Bendorfer Bauern- und Gartenmarkt findet Ihr alles\, was das Gärtnerherz begehrt: Stauden\, Kräuter\, Gemüse- und Zierpflanzen\, allerhand Geräte und viel Dekoration machen Lust\, endlich wieder im Dreck zu wühlen. Und damit Ihr nicht komplett eingesaut seid\, sind wir auch da: Besucht uns in unserer Seifenbude und testet unsere kleinen Saubermacher!
URL:https://kingbear.de/event/bendorfer-bauern-und-gartenmarkt/
LOCATION:Bendorf am Rhein\, Kirchplatz\, Bendorf\, 56170\, Deutschland
CATEGORIES:Märkte
ATTACH;FMTTYPE=image/jpeg:https://kingbear.de/wp-content/uploads/2023/02/p1010022-scaled.jpg
GEO:50.4222198;7.5767597
X-APPLE-STRUCTURED-LOCATION;VALUE=URI;X-ADDRESS=Bendorf am Rhein Kirchplatz Bendorf 56170 Deutschland;X-APPLE-RADIUS=500;X-TITLE=Kirchplatz:geo:7.5767597,50.4222198
END:VEVENT
BEGIN:VEVENT
DTSTART;TZID=Europe/Berlin:20221204T110000
DTEND;TZID=Europe/Berlin:20221204T183000
DTSTAMP:20260420T172242
CREATED:20221001T055820Z
LAST-MODIFIED:20260331T105309Z
UID:10000009-1670151600-1670178600@kingbear.de
SUMMARY:46. Bendorfer Weihnachtsmarkt
DESCRIPTION:Den lassen wir uns nicht entgehen: Auf dem Kirchplatz in Bendorf findet auch in diesem Jahr wieder der beliebte und überregional bekannte Weihnachtsmarkt statt\, und wir sind dabei! \nTriff uns und unsere Seifen und lerne uns persönlich kennen. Hier hast Du die einmalige Chance\, unser gesamtes Sortiment in weihnachtlichem Ambiente in Augen- und Nasenschein zu nehmen.
URL:https://kingbear.de/event/46-bendorfer-weihnachtsmarkt-3/
LOCATION:Bendorf am Rhein\, Kirchplatz\, Bendorf\, 56170\, Deutschland
CATEGORIES:Märkte
ATTACH;FMTTYPE=image/jpeg:https://kingbear.de/wp-content/uploads/2022/10/p1010027-scaled.jpg
GEO:50.4222198;7.5767597
X-APPLE-STRUCTURED-LOCATION;VALUE=URI;X-ADDRESS=Bendorf am Rhein Kirchplatz Bendorf 56170 Deutschland;X-APPLE-RADIUS=500;X-TITLE=Kirchplatz:geo:7.5767597,50.4222198
END:VEVENT
BEGIN:VEVENT
DTSTART;TZID=Europe/Berlin:20221203T120000
DTEND;TZID=Europe/Berlin:20221203T210000
DTSTAMP:20260420T172242
CREATED:20221001T055709Z
LAST-MODIFIED:20260331T105310Z
UID:10000008-1670068800-1670101200@kingbear.de
SUMMARY:46. Bendorfer Weihnachtsmarkt
DESCRIPTION:Den lassen wir uns nicht entgehen: Auf dem Kirchplatz in Bendorf findet auch in diesem Jahr wieder der beliebte und überregional bekannte Weihnachtsmarkt statt\, und wir sind dabei! \nTriff uns und unsere Seifen und lerne uns persönlich kennen. Hier hast Du die einmalige Chance\, unser gesamtes Sortiment in weihnachtlichem Ambiente in Augen- und Nasenschein zu nehmen.
URL:https://kingbear.de/event/46-bendorfer-weihnachtsmarkt-2/
LOCATION:Bendorf am Rhein\, Kirchplatz\, Bendorf\, 56170\, Deutschland
CATEGORIES:Märkte
ATTACH;FMTTYPE=image/jpeg:https://kingbear.de/wp-content/uploads/2022/10/p1010027-scaled.jpg
GEO:50.4222198;7.5767597
X-APPLE-STRUCTURED-LOCATION;VALUE=URI;X-ADDRESS=Bendorf am Rhein Kirchplatz Bendorf 56170 Deutschland;X-APPLE-RADIUS=500;X-TITLE=Kirchplatz:geo:7.5767597,50.4222198
END:VEVENT
BEGIN:VEVENT
DTSTART;TZID=Europe/Berlin:20221202T150000
DTEND;TZID=Europe/Berlin:20221202T210000
DTSTAMP:20260420T172242
CREATED:20221001T055446Z
LAST-MODIFIED:20260331T105311Z
UID:10000007-1669993200-1670014800@kingbear.de
SUMMARY:46. Bendorfer Weihnachtsmarkt
DESCRIPTION:Den lassen wir uns nicht entgehen: Auf dem Kirchplatz in Bendorf findet auch in diesem Jahr wieder der beliebte und überregional bekannte Weihnachtsmarkt statt\, und wir sind dabei! \nTriff uns und unsere Seifen und lerne uns persönlich kennen. Hier hast Du die einmalige Chance\, unser gesamtes Sortiment in weihnachtlichem Ambiente in Augen- und Nasenschein zu nehmen.
URL:https://kingbear.de/event/46-bendorfer-weihnachtsmarkt/
LOCATION:Bendorf am Rhein\, Kirchplatz\, Bendorf\, 56170\, Deutschland
CATEGORIES:Märkte
ATTACH;FMTTYPE=image/jpeg:https://kingbear.de/wp-content/uploads/2022/10/p1010027-scaled.jpg
GEO:50.4222198;7.5767597
X-APPLE-STRUCTURED-LOCATION;VALUE=URI;X-ADDRESS=Bendorf am Rhein Kirchplatz Bendorf 56170 Deutschland;X-APPLE-RADIUS=500;X-TITLE=Kirchplatz:geo:7.5767597,50.4222198
END:VEVENT
END:VCALENDAR