BEGIN:VCALENDAR
VERSION:2.0
PRODID:-//KingBEAR - ECPv6.15.20//NONSGML v1.0//EN
CALSCALE:GREGORIAN
METHOD:PUBLISH
X-ORIGINAL-URL:https://kingbear.de
X-WR-CALDESC:Veranstaltungen für KingBEAR
REFRESH-INTERVAL;VALUE=DURATION:PT1H
X-Robots-Tag:noindex
X-PUBLISHED-TTL:PT1H
BEGIN:VTIMEZONE
TZID:Europe/Berlin
BEGIN:DAYLIGHT
TZOFFSETFROM:+0100
TZOFFSETTO:+0200
TZNAME:CEST
DTSTART:20250330T010000
END:DAYLIGHT
BEGIN:STANDARD
TZOFFSETFROM:+0200
TZOFFSETTO:+0100
TZNAME:CET
DTSTART:20251026T010000
END:STANDARD
BEGIN:DAYLIGHT
TZOFFSETFROM:+0100
TZOFFSETTO:+0200
TZNAME:CEST
DTSTART:20260329T010000
END:DAYLIGHT
BEGIN:STANDARD
TZOFFSETFROM:+0200
TZOFFSETTO:+0100
TZNAME:CET
DTSTART:20261025T010000
END:STANDARD
BEGIN:DAYLIGHT
TZOFFSETFROM:+0100
TZOFFSETTO:+0200
TZNAME:CEST
DTSTART:20270328T010000
END:DAYLIGHT
BEGIN:STANDARD
TZOFFSETFROM:+0200
TZOFFSETTO:+0100
TZNAME:CET
DTSTART:20271031T010000
END:STANDARD
END:VTIMEZONE
BEGIN:VEVENT
DTSTART;TZID=Europe/Berlin:20260503T110000
DTEND;TZID=Europe/Berlin:20260503T180000
DTSTAMP:20260420T145238
CREATED:20260119T173857Z
LAST-MODIFIED:20260331T105216Z
UID:10000469-1777806000-1777831200@kingbear.de
SUMMARY:Bendorfer Bauern- und Gartenmarkt
DESCRIPTION:
URL:https://kingbear.de/event/bendorfer-bauern-und-gartenmarkt-4/
LOCATION:Bendorf am Rhein\, Kirchplatz\, Bendorf\, 56170\, Deutschland
CATEGORIES:Märkte
GEO:50.4222198;7.5767597
X-APPLE-STRUCTURED-LOCATION;VALUE=URI;X-ADDRESS=Bendorf am Rhein Kirchplatz Bendorf 56170 Deutschland;X-APPLE-RADIUS=500;X-TITLE=Kirchplatz:geo:7.5767597,50.4222198
END:VEVENT
END:VCALENDAR