BEGIN:VCALENDAR
VERSION:2.0
PRODID:-//KingBEAR - ECPv6.15.20//NONSGML v1.0//EN
CALSCALE:GREGORIAN
METHOD:PUBLISH
X-ORIGINAL-URL:https://kingbear.de
X-WR-CALDESC:Veranstaltungen für KingBEAR
REFRESH-INTERVAL;VALUE=DURATION:PT1H
X-Robots-Tag:noindex
X-PUBLISHED-TTL:PT1H
BEGIN:VTIMEZONE
TZID:Europe/Berlin
BEGIN:DAYLIGHT
TZOFFSETFROM:+0100
TZOFFSETTO:+0200
TZNAME:CEST
DTSTART:20240331T010000
END:DAYLIGHT
BEGIN:STANDARD
TZOFFSETFROM:+0200
TZOFFSETTO:+0100
TZNAME:CET
DTSTART:20241027T010000
END:STANDARD
BEGIN:DAYLIGHT
TZOFFSETFROM:+0100
TZOFFSETTO:+0200
TZNAME:CEST
DTSTART:20250330T010000
END:DAYLIGHT
BEGIN:STANDARD
TZOFFSETFROM:+0200
TZOFFSETTO:+0100
TZNAME:CET
DTSTART:20251026T010000
END:STANDARD
BEGIN:DAYLIGHT
TZOFFSETFROM:+0100
TZOFFSETTO:+0200
TZNAME:CEST
DTSTART:20260329T010000
END:DAYLIGHT
BEGIN:STANDARD
TZOFFSETFROM:+0200
TZOFFSETTO:+0100
TZNAME:CET
DTSTART:20261025T010000
END:STANDARD
END:VTIMEZONE
BEGIN:VEVENT
DTSTART;TZID=Europe/Berlin:20251207T110000
DTEND;TZID=Europe/Berlin:20251207T180000
DTSTAMP:20260422T012712
CREATED:20251025T060228Z
LAST-MODIFIED:20260331T105553Z
UID:10000457-1765105200-1765130400@kingbear.de
SUMMARY:Weihnachtsmarkt in Mörz
DESCRIPTION:Am 2. Advents­wochenende (Sa\, 6.12.\, 12–20 Uhr · So\, 7.12.\, 11–18 Uhr) sind wir mit KingBEAR auf dem stimmungsvollen Weihnachtsmarkt in Mörz. Das 200-Seelen-Dorf verwandelt sich in eine gemütliche Flaniermeile – mit alten Höfen wie Kreativ- und Weihnachtshof\, „Sternschnuppenscheune“ & Töpfereien\, Feuertonnen zum Aufwärmen\, frisch Gebackenem aus dem Holzbackofen am „Backes“\, der legendären Waffelhütte und Programm für Kinder bis zum Besuch des Nikolaus. Handwerk steht im Mittelpunkt – viele Stände bieten echte Manufaktur-Arbeiten aus der Region. \nKomm vorbei\, schnupper dich durch unsere handgemachten Naturseifen und entdecke pflegende Rezepturen aus natürlichen Rohstoffen – ideal für Haut und Haar. Wir beraten dich gern\, packen dir Geschenke ein und haben auch kleine Geschenkideen dabei.
URL:https://kingbear.de/event/weihnachtsmarkt-in-moerz/2025-12-07/
LOCATION:Mörz\, Maximinstraße\, Münstermaifeld-Mörz\, Rheinland-Pfalz\, 56294\, Germany
CATEGORIES:Märkte
ATTACH;FMTTYPE=image/jpeg:https://kingbear.de/wp-content/uploads/2025/10/2024wm_10.jpg
GEO:50.2522502;7.3949885
X-APPLE-STRUCTURED-LOCATION;VALUE=URI;X-ADDRESS=Mörz Maximinstraße Münstermaifeld-Mörz Rheinland-Pfalz 56294 Germany;X-APPLE-RADIUS=500;X-TITLE=Maximinstraße:geo:7.3949885,50.2522502
END:VEVENT
BEGIN:VEVENT
DTSTART;TZID=Europe/Berlin:20251206T120000
DTEND;TZID=Europe/Berlin:20251206T200000
DTSTAMP:20260422T012712
CREATED:20251025T060228Z
LAST-MODIFIED:20260331T105553Z
UID:10000456-1765022400-1765051200@kingbear.de
SUMMARY:Weihnachtsmarkt in Mörz
DESCRIPTION:Am 2. Advents­wochenende (Sa\, 6.12.\, 12–20 Uhr · So\, 7.12.\, 11–18 Uhr) sind wir mit KingBEAR auf dem stimmungsvollen Weihnachtsmarkt in Mörz. Das 200-Seelen-Dorf verwandelt sich in eine gemütliche Flaniermeile – mit alten Höfen wie Kreativ- und Weihnachtshof\, „Sternschnuppenscheune“ & Töpfereien\, Feuertonnen zum Aufwärmen\, frisch Gebackenem aus dem Holzbackofen am „Backes“\, der legendären Waffelhütte und Programm für Kinder bis zum Besuch des Nikolaus. Handwerk steht im Mittelpunkt – viele Stände bieten echte Manufaktur-Arbeiten aus der Region. \nKomm vorbei\, schnupper dich durch unsere handgemachten Naturseifen und entdecke pflegende Rezepturen aus natürlichen Rohstoffen – ideal für Haut und Haar. Wir beraten dich gern\, packen dir Geschenke ein und haben auch kleine Geschenkideen dabei.
URL:https://kingbear.de/event/weihnachtsmarkt-in-moerz/2025-12-06/
LOCATION:Mörz\, Maximinstraße\, Münstermaifeld-Mörz\, Rheinland-Pfalz\, 56294\, Germany
CATEGORIES:Märkte
ATTACH;FMTTYPE=image/jpeg:https://kingbear.de/wp-content/uploads/2025/10/2024wm_10.jpg
GEO:50.2522502;7.3949885
X-APPLE-STRUCTURED-LOCATION;VALUE=URI;X-ADDRESS=Mörz Maximinstraße Münstermaifeld-Mörz Rheinland-Pfalz 56294 Germany;X-APPLE-RADIUS=500;X-TITLE=Maximinstraße:geo:7.3949885,50.2522502
END:VEVENT
BEGIN:VEVENT
DTSTART;TZID=Europe/Berlin:20250525T100000
DTEND;TZID=Europe/Berlin:20250525T170000
DTSTAMP:20260422T012712
CREATED:20250514T031702Z
LAST-MODIFIED:20260331T111412Z
UID:10000063-1748167200-1748192400@kingbear.de
SUMMARY:Schatz\, wir radeln! Erlebnistag auf dem Maifeld-Radweg
DESCRIPTION:Am 25. Mai 2025 verwandelt sich der Maifeld-Radweg von 10 bis 17 Uhr in eine Erlebnismeile! Zwischen Ochtendung und Münstermaifeld gibt es jede Menge Maifeldschätze zu entdecken. \nWir sind für Euch in Mertloch am Start\, nur 2km von unserer Manufaktur entfernt ein absolutes Heimspiel. Am Wasserspielplatz präsentieren wir Euch gemeinsam mit der Ölmühle Bertgen unser Sortiment an feinen Seifen\, und ihr habt Gelegenheit einen unserer wichtigsten Rohstoff-Lieferanten kennenzulernen. \nSportlichere Naturen erradeln sich den Besuch bei uns: der Maifeld-Radweg ist bestens ausgebaut und führt Euch von Ochtendung bis Münstermaifeld durch abwechslungsreiche und zauberhafte Landschaften\, vorbei an den wichtigsten Orten im Maifeld. Keine Sorge: als alte Bahnstrecke müsst ihr unterwegs nicht mit viel Steigung rechnen!
URL:https://kingbear.de/event/schatz-wir-radeln-erlebnistag-auf-dem-maifeld-radweg/
LOCATION:Mertloch\, Am Bahnhof\, Mertloch\, Rheinland-Pfalz\, 56753\, Germany
CATEGORIES:Märkte
ATTACH;FMTTYPE=image/jpeg:https://kingbear.de/wp-content/uploads/2025/05/raderlebnistag_169.jpg
GEO:50.2699561;7.3061878
X-APPLE-STRUCTURED-LOCATION;VALUE=URI;X-ADDRESS=Mertloch Am Bahnhof Mertloch Rheinland-Pfalz 56753 Germany;X-APPLE-RADIUS=500;X-TITLE=Am Bahnhof:geo:7.3061878,50.2699561
END:VEVENT
END:VCALENDAR